Workbook

Sheet GP Set up
A1: Race Dates | B1: Distance | E1: ONU Team point system | F1: ONU Individual point system
A2: 44078 | B2: 2 miles | C2: grass | E2: 200 | F2: 350
A3: 44085 | B3: 5k | C3: grass | E3: 150 | F3: 300
A4: 44099 | B4: 8k/6k | C4: grass | E4: 125 | F4: 250
A5: 44113 | B5: 2 miles | C5: track | E5: 100 | F5: 200
A6: 44127 | B6: 8k/6k | C6: grass | E6: 75 | F6: 175
A7: 44141 | B7: 5k | C7: track | E7: 50 | F7: 150
A8: 44148 | B8: 1 mile | C8: road | E8: 30 | F8: 125
F9: 100
F10: 90
F11: 80
F12: 70
F13: 60
F14: 50
A15: Grass 2M score = 0.5*the normal points | F15: 45
A16: Grass 5k = 0.75 | F16: 40
A17: Grass 8k = 1.0 | F17: 35
A18: Track 2M = 0.75 | F18: 30
A19: Grass 8k = 1.0 | F19: 25
A20: Track 5k = 1.25 | F20: 20
F21: 15
A22: Road Mile = 0.25 | F22: 10
F23: 9
F24: 8
F25: 7
F26: 6
F27: 5
F28: 4
F29: 3
F30: 2
F31: 1

Sheet Teams
B2: Baker, Patrick | D2: Sutter, Travis | F2: Krabacher, Samuel | H2: Driemeyer, Billy | J2: Hann, Breydan | L2: Roth, Kyle | N2: Green, Jordan
B3: Dravenstott, Alan | D3: Schaser, Braden | F3: Pratt, Nick | H3: Thobe, Nathan | J3: Guzman, Aaron | L3: Tramontano, Alessandro | N3: Blakeley, Brooks
B4: McKean, Dylan | D4: DeVore, Nicholas | F4: Swartz, Jared | H4: Sauerbrey, Caden | J4: Williamson, Thomas | L4: Wallace, Ian | N4: Ackenhausen, Ian
B5: Brandstaetter, Jackson | D5: Kelly, Dylan | F5: Myers, Trey | H5: Dawson, Skylar | J5: Lamison, Connor | L5: Overmyer, Pierce | N5: Neundorfer, Canyon
B9: Pitcovich, Tessa | D9: Wright, Megan | F9: Retcher, Chyanne | H9: Vestal, Kylie
B10: Ellerbrock, Taylor | D10: Thompson, Sophia | F10: Carpenter, Kassidy | H10: Vapenik, Megan
B11: Neff, Alexis | D11: Herron, Julianna | F11: Whitmore, Elizabeth | H11: Kowalczyk, Gabrielle
B12: Dingman, Elizabeth | D12: Rhodes, Kamryn | F12: Bresnahan, Karsen | H12: Thompson, Rachel
B13: Goodrich, Sydney | D13: Trace, Lauren | F13: Mobley, Erica | H13: Mertz, Olesya

Sheet 2MTT grass
B1: Time | C1: Points | F1: Time/points | H1: Time | I1: Points
A2: Billy Driemeyer | B2: 0.0068518519 | C2: 175 | E2: Wright, Megan | F2: 0.0082291667 | G2: Green, Jordan | H2: 0.0072106481
A3: Sam Krabacher | B3: 0.0069328704 | C3: 150 | E3: Thompson, Sophia | F3: 0.0086111111 | G3: Blakeley, Brooks | H3: 0.0072222222
A4: Patrick Baker | B4: 0.0069560185 | C4: 125 | E4: Herron, Julianna | F4: 0.0089930556 | G4: Ackenhausen, Ian | H4: 0.0072569444
A5: Travis Sutter | B5: 0.0069907407 | C5: 100 | E5: Rhodes, Kamryn | F5: 0.0085763889 | G5: Neundorfer, Canyon | H5: 0.0076967593
A6: Dylan McKean | B6: 0.0070601852 | C6: 87.5 | E6: Trace, Lauren | F6: 0.0095601852 | H6: 42:19.0 | I6: 100 points
A7: Brarden Schaser | B7: 0.0071064815 | C7: 75 | F7: 63:19.0 | G7: Baker, Patrick | H7: 0.0069560185
A8: Kyle Roth | B8: 0.0071180556 | C8: 62.5 | F8: 100 points | G8: Dravenstott, Alan | H8: 0.007337963
A9: Breydan Hann | B9: 0.0071759259 | C9: 50 | G9: McKean, Dylan | H9: 0.0070601852
A10: Jordan Green | B10: 0.0072106481 | C10: 45 | E10: Pitcovich, Tessa | F10: 0.0083101852 | G10: Brandstaetter, Jackson | H10: 0.0083101852
A11: Brooks Blakley | B11: 0.0072222222 | C11: 40 | E11: Ellerbrock, Taylor | F11: 0.0081712963 | H11: 42:43.0 | I11: 75 points
A12: Ian Wallace | B12: 0.0072337963 | C12: 35 | E12: Neff, Alexis | F12: 0.00875 | G12: Hann, Breydan | H12: 0.0071759259
A13: Alex Tramontano | B13: 0.0072453704 | C13: 30 | E13: Dingman, Elizabeth | F13: 0.0095601852 | G13: Guzman, Aaron | H13: 0.0073148148
A14: Ian Ackenhausen | B14: 0.0072569444 | C14: 25 | E14: Goodrich, Sydney | F14: 0.0095601852 | G14: Williamson, Thomas | H14: 0.0073032407
A15: Thomas Williamson | B15: 0.0073032407 | C15: 22.5 | F15: 63:52.0 | G15: Lamison, Connor | H15: 0.0080787037
A16: Aaron Guzman | B16: 0.0073148148 | C16: 20 | F16: 75 points | H16: 43:01.0 | I16: 62.5 points
A17: Alan Dravenstott | B17: 0.007337963 | C17: 17.5 | G17: Roth, Kyle | H17: 0.0071180556
A18: Caden Sauerbrey | B18: 0.0074421296 | C18: 15 | E18: Vestal, Kylie | F18: 0.0085185185 | G18: Tramontano, Alessandro | H18: 0.0072453704
A19: Jared Swartz | B19: 0.0074768519 | C19: 12.5 | E19: Vapenik, Megan | F19: 0.0083680556 | G19: Wallace, Ian | H19: 0.0072337963
A20: Nick Pratt | B20: 0.0075694444 | C20: 10 | E20: Kowalczyk, Gabrielle | F20: 0.0095486111 | G20: Overmyer, Pierce | H20: 0.0082986111
A21: Caynon Neundorfer | B21: 0.0076967593 | C21: 7.5 | E21: Thompson, Rachel | F21: 0.0095601852 | H21: 43:03.0 | I21: 50 points
A22: Skylar Dawson | B22: 0.0077546296 | C22: 5 | E22: Mertz, Olesya | F22: 0.0095601852 | G22: Driemeyer, Billy | H22: 0.0068518519
A23: Nathan Thobe | B23: 0.0079398148 | C23: 4.5 | F23: 65:36.0 | G23: Thobe, Nathan | H23: 0.0079398148
A24: Connor Lamison | B24: 0.0080787037 | C24: 4 | F24: 62.5 points | G24: Sauerbrey, Caden | H24: 0.0074421296
A25: Pierce Overmyer | B25: 0.0082986111 | C25: 3.5 | G25: Dawson, Skylar | H25: 11.10.0
A26: Jackson Brandstaetter | B26: DNS | C26: 0 | E26: Retcher, Chyanne | F26: 0.0085532407 | H26: 43:11.0 | I26: 37.5 points
A27: Dylan Kelly | B27: DNS | C27: 0 | E27: Carpenter, Kassidy | F27: 0.0095601852 | G27: Krabacher, Samuel | H27: 0.0069328704
A28: Trey Myers | B28: DNS | C28: 0 | E28: Whitmore, Elizabeth | F28: 0.0095601852 | G28: Pratt, Nick | H28: 0.0075694444
A29: Nick DeVore | B29: DNS | C29: 0 | E29: Bresnahan, Karsen | F29: 0.0092361111 | G29: Swartz, Jared | H29: 0.0074768519
E30: Mobley, Erica | F30: 0.0095601852 | G30: Myers, Trey | H30: 0.0083101852
F31: 66:55.0 | H31: 43:37.0 | I31: 25 points
F32: 50 points | G32: Sutter, Travis | H32: 0.0069907407
A33: Taylor Ellerbrock | B33: 0.0081712963 | C33: 175 | G33: Schaser, Braden | H33: 0.0071064815
A34: Megan Wright | B34: 0.0082291667 | C34: 150 | G34: DeVore, Nicholas | H34: 0.0083101852
A35: Tessa Pitcovich | B35: 0.0083101852 | C35: 125 | G35: Kelly, Dylan | H35: 0.0083101852
A36: Megan Vapenik | B36: 0.0083680556 | C36: 100 | H36: 44:14.0 | I36: 15 points
A37: Kylie Vestal | B37: 0.0085185185 | C37: 87.5
A38: Chyanne Retcher | B38: 0.0085532407 | C38: 75
A39: Kamryn Rhodes | B39: 0.0085763889 | C39: 62.5
A40: Sophia Thompson | B40: 0.0086111111 | C40: 50
...

Sheet 5K grass
B1: Time | C1: 5K Points | D1: Total Points | G1: Time/points | I1: Time | J1: Points
A2: Travis Sutter | B2: 0.011168981 | C2: =350 *0.75 -> 262.5 | D2: =C2+'2MTT grass'!C5 -> 362.5 | F2: Wright, Megan | G2: 0.01337963 | H2: Green, Jordan | I2: 0.01162037
A3: Billy Driemeyer | B3: 0.011377315 | C3: =250*0.75 -> 187.5 | D3: =C3+'2MTT grass'!C2 -> 362.5 | F3: Thompson, Sophia | G3: 0.013530093 | H3: Blakeley, Brooks | I3: 0.011782407
A4: Patrick Baker | B4: 0.011226852 | C4: =300*0.75 -> 225 | D4: =C4+'2MTT grass'!C4 -> 350 | F4: Herron, Julianna | G4: 0.014756944 | H4: Ackenhausen, Ian | I4: 0.011828704
A5: Sam Krabacher | B5: 0.011388889 | C5: =200*0.75 -> 150 | D5: =C5+'2MTT grass'!C3 -> 300 | F5: Rhodes, Kamryn | G5: 0.013506944 | H5: Neundorfer, Canyon | I5: 0.012546296
A6: Dylan McKean | B6: 0.011574074 | C6: =150*0.75 -> 112.5 | D6: =C6+'2MTT grass'!C6 -> 200 | F6: Trace, Lauren | G6: 0.015335648 | I6: =SUM(I2:I5) -> 0.047777778 | J6: 150/250 points
A7: Kyle Roth | B7: 0.011446759 | C7: =175*0.75 -> 131.25 | D7: =C7+'2MTT grass'!C8 -> 193.75 | G7: =SUM(G2:G6) -> 0.070509259 | H7: Roth, Kyle | I7: 0.011446759
A8: Brarden Schaser | B8: 0.011678241 | C8: =90*0.75 -> 67.5 | D8: =C8+'2MTT grass'!C7 -> 142.5 | G8: 150/250 points | H8: Tramontano, Alessandro | I8: 0.011967593
A9: Breydan Hann | B9: 0.011585648 | C9: =120*0.75 -> 90 | D9: =C9+'2MTT grass'!C9 -> 140 | H9: Wallace, Ian | I9: 0.011701389
A10: Jordan Green | B10: 0.01162037 | C10: =100*0.75 -> 75 | D10: =C10+'2MTT grass'!C10 -> 120 | F10: Pitcovich, Tessa | G10: 0.013148148 | H10: Overmyer, Pierce | I10: 0.012858796
A11: Ian Wallace | B11: 0.011701389 | C11: =80*0.75 -> 60 | D11: =C11+'2MTT grass'!C12 -> 95 | F11: Ellerbrock, Taylor | G11: 0.013171296 | I11: =SUM(I7:I10) -> 0.047974537 | J11: 112.5/162.5 points
A12: Brooks Blakley | B12: 0.011782407 | C12: =60*0.75 -> 45 | D12: =C12+'2MTT grass'!C11 -> 85 | F12: Neff, Alexis | G12: 0.014131944 | H12: Hann, Breydan | I12: 0.011585648
A13: Aaron Guzman | B13: 0.011712963 | C13: =70*0.75 -> 52.5 | D13: =C13+'2MTT grass'!C16 -> 72.5 | F13: Dingman, Elizabeth | G13: 0.015335648 | H13: Guzman, Aaron | I13: 0.011712963
A14: Ian Ackenhausen | B14: 0.011828704 | C14: =50*0.75 -> 37.5 | D14: =C14+'2MTT grass'!C14 -> 62.5 | F14: Goodrich, Sydney | G14: 0.015335648 | H14: Williamson, Thomas | I14: 0.012164352
A15: Alex Tramontano | B15: 0.011967593 | C15: =40*0.75 -> 30 | D15: =C15+'2MTT grass'!C13 -> 60 | G15: =SUM(G10:G14) -> 0.071122685 | H15: Lamison, Connor | I15: 0.0128125
A16: Thomas Williamson | B16: 0.012164352 | C16: =35*0.75 -> 26.25 | D16: =C16+'2MTT grass'!C15 -> 48.75 | G16: 112.5/187.5 points | I16: =SUM(I12:I15) -> 0.048275463 | J16: 93.75/156.25 points
A17: Jared Swartz | B17: 0.011851852 | C17: =45*0.75 -> 33.75 | D17: =C17+'2MTT grass'!C19 -> 46.25 | H17: Baker, Patrick | I17: 0.011226852
A18: Alan Dravenstott | B18: 0.012384259 | C18: =20*0.75 -> 15 | D18: =C18+'2MTT grass'!C17 -> 32.5 | F18: Vestal, Kylie | G18: 0.01349537 | H18: Dravenstott, Alan | I18: 0.012384259
A19: Nick Pratt | B19: 0.012337963 | C19: =25*0.75 -> 18.75 | D19: =C19+'2MTT grass'!C20 -> 28.75 | F19: Vapenik, Megan | G19: 0.013483796 | H19: McKean, Dylan | I19: 0.011574074
A20: Skylar Dawson | B20: 0.012233796 | C20: =30*0.75 -> 22.5 | D20: =C20+'2MTT grass'!C22 -> 27.5 | F20: Kowalczyk, Gabrielle | G20: 0.015335648 | H20: Brandstaetter, Jackson | I20: 0.013206019
A21: Caynon Neundorfer | B21: 0.012546296 | C21: =15*0.75 -> 11.25 | D21: =C21+'2MTT grass'!C21 -> 18.75 | F21: Thompson, Rachel | G21: 0.015335648 | I21: =SUM(I17:I20) -> 0.048391204 | J21: 75/150 points
A22: Caden Sauerbrey | B22: DNS | C22: 0 | D22: 15 | F22: Mertz, Olesya | G22: 0.015335648 | H22: Krabacher, Samuel | I22: 0.011388889
A23: Connor Lamison | B23: 0.0128125 | C23: =9*0.75 -> 6.75 | D23: =C23+'2MTT grass'!C24 -> 10.75 | G23: =SUM(G18:G22) -> 0.072986111 | H23: Pratt, Nick | I23: 0.012337963
A24: Pierce Overmyer | B24: 0.012858796 | C24: =7*0.75 -> 5.25 | D24: =C24+'2MTT grass'!C25 -> 8.75 | G24: 93.75/156.25 points | H24: Swartz, Jared | I24: 0.011851852
A25: Dylan Kelly | B25: 0.012800926 | C25: =10*0.75 -> 7.5 | D25: 7.5 | H25: Myers, Trey | I25: 0.012835648
A26: Trey Myers | B26: 0.012835648 | C26: =8*0.75 -> 6 | D26: 6 | F26: Retcher, Chyanne | G26: 0.014456019 | I26: =SUM(I22:I25) -> 0.048414352 | J26: 56.25/81.25 points
A27: Nick DeVore | B27: 0.013194444 | C27: =6*0.75 -> 4.5 | D27: 4.5 | F27: Carpenter, Kassidy | G27: 0.015335648 | H27: Driemeyer, Billy | I27: 0.011377315
A28: Nathan Thobe | B28: DNS | C28: 0 | D28: 4.5 | F28: Whitmore, Elizabeth | G28: 0.015335648 | H28: Thobe, Nathan | I28: 0.013206019
A29: Jackson Brandstaetter | B29: DNS | C29: 0 | D29: 0 | F29: Bresnahan, Karsen | G29: 0.015324074 | H29: Sauerbrey, Caden | I29: 0.013206019
F30: Mobley, Erica | G30: 0.015335648 | H30: Dawson, Skylar | I30: 0.012233796
G31: =SUM(G26:G30) -> 0.075787037 | I31: =SUM(I27:I30) -> 0.050023148 | J31: 22.5/60 points
B32: Time | C32: 5K Points | D32: Total Points | G32: 75/125 points | H32: Sutter, Travis | I32: 0.011168981
A33: Taylor Ellerbrock | B33: 0.013171296 | C33: =300*0.75 -> 225 | D33: =C33+'2MTT grass'!C33 -> 400 | H33: Schaser, Braden | I33: 0.011678241
A34: Tessa Pitcovich | B34: 0.013148148 | C34: =350*0.75 -> 262.5 | D34: =C34+'2MTT grass'!C35 -> 387.5 | H34: DeVore, Nicholas | I34: 0.013194444
A35: Megan Wright | B35: 0.01337963 | C35: =250*0.75 -> 187.5 | D35: =C35+'2MTT grass'!C34 -> 337.5 | H35: Kelly, Dylan | I35: 0.012800926
A36: Megan Vapenik | B36: 0.013483796 | C36: =200*0.75 -> 150 | D36: =C36+'2MTT grass'!C36 -> 250 | I36: =SUM(I32:I35) -> 0.048842593 | J36: 37.5/52.5 points
A37: Kylie Vestal | B37: 0.01349537 | C37: =175*0.75 -> 131.25 | D37: =C37+'2MTT grass'!C37 -> 218.75
A38: Kamryn Rhodes | B38: 0.013506944 | C38: =150*0.75 -> 112.5 | D38: =C38+'2MTT grass'!C39 -> 175
A39: Sophia Thompson | B39: 0.013530093 | C39: =125*0.75 -> 93.75 | D39: =C39+'2MTT grass'!C40 -> 143.75
A40: Chyanne Retcher | B40: 0.014456019 | C40: =90*0.75 -> 67.5 | D40: =C40+'2MTT grass'!C38 -> 142.5
...

Sheet 8k6k grass
B1: Time | C1: 8K Points | D1: Total Points | G1: Time/points | I1: Time | J1: Points
A2: Billy Driemeyer | B2: 0.018726852 | C2: 350 | D2: =C2+'5K grass'!D3 -> 712.5 | F2: Wright, Megan | G2: 0.016585648 | H2: Green, Jordan | I2: 0.020092593
A3: Patrick Baker | B3: 0.019293981 | C3: 300 | D3: =C3+'5K grass'!D4 -> 650 | F3: Thompson, Sophia | G3: 0.017106481 | H3: Blakeley, Brooks | I3: 0.021111111
A4: Travis Sutter | B4: 0.01943287 | C4: 250 | D4: =C4+'5K grass'!D2 -> 612.5 | F4: Herron, Julianna | G4: 0.017974537 | H4: Ackenhausen, Ian | I4: 0.020162037
A5: Kyle Roth | B5: 0.019594907 | C5: 200 | D5: =C5+'5K grass'!D7 -> 393.75 | F5: Rhodes, Kamryn | G5: 0.017013889 | H5: Neundorfer, Canyon | I5: 0.020856481
A6: Sam Krabacher | B6: 0.0203125 | C6: 80 | D6: =C6+'5K grass'!D5 -> 380 | F6: Trace, Lauren | G6: 0.021828704 | I6: =SUM(I2:I5) -> 0.082222222 | J6: 200/450 points
A7: Dylan McKean | B7: 0.019976852 | C7: 150 | D7: =C7+'5K grass'!D6 -> 350 | G7: =SUM(G2:G6) -> 0.090509259 | H7: Baker, Patrick | I7: 0.019293981
A8: Braden Schaser | B8: 0.019895833 | C8: 175 | D8: =C8+'5K grass'!D8 -> 317.5 | G8: 200/450 points | H8: Dravenstott, Alan | I8: 0.021018519
A9: Jordan Green | B9: 0.020092593 | C9: 125 | D9: =C9+'5K grass'!D10 -> 245 | H9: McKean, Dylan | I9: 0.019976852
A10: Breydan Hann | B10: 0.020497685 | C10: 70 | D10: =C10+'5K grass'!D9 -> 210 | F10: Pitcovich, Tessa | G10: 0.021828704 | H10: Brandstaetter, Jackson | I10: 0.022152778
A11: Ian Ackenhausen | B11: 0.020162037 | C11: 100 | D11: =C11+'5K grass'!D14 -> 162.5 | F11: Ellerbrock, Taylor | G11: 0.016805556 | I11: =SUM(I7:I10) -> 0.08244213 | J11: 150/300 points
A12: Jared Swartz | B12: 0.020185185 | C12: 90 | D12: =C12+'5K grass'!D17 -> 136.25 | F12: Neff, Alexis | G12: 0.017986111 | H12: Hann, Breydan | I12: 0.020497685
A13: Aaron Guzman | B13: 0.020636574 | C13: 60 | D13: =C13+'5K grass'!D13 -> 132.5 | F13: Dingman, Elizabeth | G13: 0.02181713 | H13: Guzman, Aaron | I13: 0.020636574
A14: Brooks Blakley | B14: 0.021111111 | C14: 25 | D14: =C14+'5K grass'!D12 -> 110 | F14: Goodrich, Sydney | G14: 0.021828704 | H14: Williamson, Thomas | I14: 0.020752315
A15: Ian Wallace | B15: 0.021377315 | C15: 15 | D15: =C15+'5K grass'!D11 -> 110 | G15: =SUM(G10:G14) -> 0.1002662 | H15: Lamison, Connor | I15: 0.022152778
A16: Thomas Williamson | B16: 0.020752315 | C16: 45 | D16: =C16+'5K grass'!D16 -> 93.75 | G16: 125/312.5 points | I16: =SUM(I12:I15) -> 0.084039352 | J16: 50/206.25 points
A17: Alex Tramontano | B17: 0.02130787 | C17: 20 | D17: =C17+'5K grass'!D15 -> 80 | H17: Roth, Kyle | I17: 0.019594907
A18: Nick Pratt | B18: 0.020706019 | C18: 50 | D18: =C18+'5K grass'!D19 -> 78.75 | F18: Retcher, Chyanne | G18: 0.017291667 | H18: Tramontano, Alessandro | I18: 0.02130787
A19: Skylar Dawson | B19: 0.020798611 | C19: 40 | D19: =C19+'5K grass'!D20 -> 67.5 | F19: Carpenter, Kassidy | G19: 0.021828704 | H19: Wallace, Ian | I19: 0.021377315
A20: Alan Dravenstott | B20: 0.021018519 | C20: 30 | D20: =C20+'5K grass'!D18 -> 62.5 | F20: Whitmore, Elizabeth | G20: 0.016898148 | H20: Overmyer, Pierce | I20: 0.022141204
A21: Canyon Neundorfer | B21: 0.020856481 | C21: 35 | D21: =C21+'5K grass'!D21 -> 53.75 | F21: Bresnahan, Karsen | G21: 0.019143519 | I21: =SUM(I17:I20) -> 0.084421296 | J21: 30/192.5 points
A22: Pierce Overmyer | B22: 0.022141204 | C22: 8 | D22: =C22+'5K grass'!D24 -> 16.75 | F22: Mobley, Erica | G22: 0.021828704 | H22: Krabacher, Samuel | I22: 0.0203125
A23: Dylan Kelly | B23: 0.02212963 | C23: 9 | D23: =C23+'5K grass'!D25 -> 16.5 | G23: =SUM(G18:G22) -> 0.096990741 | H23: Pratt, Nick | I23: 0.020706019
A24: Caden Sauerbrey | B24: DNF | C24: 0 | D24: =C24+'5K grass'!D22 -> 15 | G24: 150/275 points | H24: Swartz, Jared | I24: 0.020185185
A25: Nick DeVore | B25: 0.021689815 | C25: 10 | D25: =C25+'5K grass'!D27 -> 14.5 | H25: Myers, Trey | I25: 0.022152778
A26: Connor Lamison | B26: DNF | C26: 0 | D26: =C26+'5K grass'!D23 -> 10.75 | F26: Vestal, Kylie | G26: 0.021828704 | I26: =SUM(I22:I25) -> 0.083356481 | J26: 100/181.25 points
A27: Nathan Thobe | B27: 0.013101852 | C27: 5.5 | D27: =C27+'5K grass'!D28 -> 10 | F27: Vapenik, Megan | G27: 0.016666667 | H27: Sutter, Travis | I27: 0.01943287
A28: Trey Myers | B28: DNF | C28: 0 | D28: =C28+'5K grass'!D26 -> 6 | F28: Kowalczyk, Gabrielle | G28: 0.021828704 | H28: Schaser, Braden | I28: 0.019895833
A29: Jackson Brandstaetter | B29: DNS | C29: 0 | D29: =C29+'5K grass'!D29 -> 0 | F29: Thompson, Rachel | G29: 0.021828704 | H29: DeVore, Nicholas | I29: 0.021689815
F30: Mertz, Olesya | G30: 0.021828704 | H30: Kelly, Dylan | I30: 0.02212963
G31: =SUM(G26:G30) -> 0.10398148 | I31: =SUM(I27:I30) -> 0.083148148 | J31: 125/177.5 points
B32: Time | C32: 6K Points | D32: Total Points | G32: 100/256.25 points | H32: Driemeyer, Billy | I32: 0.018726852
A33: Megan Wright | B33: 0.016585648 | C33: 350 | D33: =C33+'5K grass'!D35 -> 687.5 | H33: Thobe, Nathan | I33: 0.022152778
A34: Taylor Ellerbrock | B34: 0.016805556 | C34: 250 | D34: =C34+'5K grass'!D33 -> 650 | H34: Sauerbrey, Caden | I34: 0.022152778
A35: Megan Vapenik | B35: 0.016666667 | C35: 300 | D35: =C35+'5K grass'!D36 -> 550 | H35: Dawson, Skylar | I35: 0.020798611
A36: Tessa Pitcovich | B36: DNF | C36: 0 | D36: =C36+'5K grass'!D34 -> 387.5 | I36: =SUM(I32:I35) -> 0.083831019 | J36: 75/135 points
A37: Kamryn Rhodes | B37: 0.017013889 | C37: 175 | D37: =C37+'5K grass'!D38 -> 350
A38: Sophia Thompson | B38: 0.017106481 | C38: 150 | D38: =C38+'5K grass'!D39 -> 293.75
A39: Rue Whitmore | B39: 0.016898148 | C39: 200 | D39: =C39+'5K grass'!D43 -> 287.5
A40: Chyanne Retcher | B40: 0.017291667 | C40: 125 | D40: =C40+'5K grass'!D40 -> 267.5
...

Sheet 2M TT track
B1: Time | C1: 2M Points | D1: Total Points | G1: Time/points | I1: Time | J1: Points
A2: Patrick Baker | B2: 0.0065856481 | C2: 262.5 | D2: =C2+'8k6k grass'!D3 -> 912.5 | F2: Wright, Megan | G2: 0.0079513889 | H2: Green, Jordan | I2: 0.0072569444
A3: Billy Driemeyer | B3: 0.006724537 | C3: 187.5 | D3: =C3+'8k6k grass'!D2 -> 900 | F3: Thompson, Sophia | G3: 0.0081481481 | H3: Blakeley, Brooks | I3: 0.0069560185
A4: Travis Sutter | B4: 0.0066087963 | C4: 225 | D4: =C4+'8k6k grass'!D4 -> 837.5 | F4: Herron, Julianna | G4: 0.0086226852 | H4: Ackenhausen, Ian | I4: 0.0071180556
A5: Sam Krabacher | B5: 0.0068055556 | C5: 150 | D5: =C5+'8k6k grass'!D6 -> 530 | F5: Rhodes, Kamryn | G5: 0.0080902778 | H5: Neundorfer, Canyon | I5: 0.0072337963
A6: Kyle Roth | B6: 0.0069328704 | C6: 112.5 | D6: =C6+'8k6k grass'!D5 -> 506.25 | F6: Trace, Lauren | G6: 0.0097685185 | I6: =SUM(I2:I5) -> 0.028564815 | J6: 112.5/562.5points
A7: Dylan McKean | B7: 0.0069212963 | C7: 131.25 | D7: =C7+'8k6k grass'!D7 -> 481.25 | G7: =SUM(G2:G6) -> 0.042581019 | H7: Krabacher, Samuel | I7: 0.0068055556
A8: Braden Schaser | B8: DNS | C8: 0 | D8: =C8+'8k6k grass'!D8 -> 317.5 | G8: 150/600 points | H8: Pratt, Nick | I8: 0.007025463
A9: Breydan Hann | B9: 0.0070023148 | C9: 67.5 | D9: =C9+'8k6k grass'!D10 -> 277.5 | H9: Swartz, Jared | I9: 0.0070833333
A10: Jordan Green | B10: 0.0072569444 | C10: 22.5 | D10: =C10+'8k6k grass'!D9 -> 267.5 | F10: Pitcovich, Tessa | G10: 0.0097685185 | H10: Myers, Trey | I10: 0.0073148148
A11: Aaron Guzman | B11: 0.0069444444 | C11: 93.75 | D11: =C11+'8k6k grass'!D13 -> 226.25 | F11: Ellerbrock, Taylor | G11: 0.0078703704 | I11: =SUM(I7:I10) -> 0.028229167 | J11: 150/331.25 points
A12: Ian Ackenhausen | B12: 0.0071180556 | C12: 37.5 | D12: =C12+'8k6k grass'!D11 -> 200 | F12: Neff, Alexis | G12: 0.0083680556 | H12: Baker, Patrick | I12: 0.0065856481
A13: Brooks Blakley | B13: 0.0069560185 | C13: 75 | D13: =C13+'8k6k grass'!D14 -> 185 | F13: Dingman, Elizabeth | G13: 0.0097569444 | H13: Dravenstott, Alan | I13: 0.0073032407
A14: Jared Swartz | B14: 0.0070833333 | C14: 45 | D14: =C14+'8k6k grass'!D12 -> 181.25 | F14: Goodrich, Sydney | G14: 0.0097685185 | H14: McKean, Dylan | I14: 0.0069212963
A15: Ian Wallace | B15: 0.007037037 | C15: 52.5 | D15: =C15+'8k6k grass'!D15 -> 162.5 | G15: =SUM(G10:G14) -> 0.045532407 | H15: Brandstaetter, Jackson | I15: 0.0083333333
A16: Nick Pratt | B16: 0.007025463 | C16: 60 | D16: =C16+'8k6k grass'!D18 -> 138.75 | G16: 93.75/406.25 points | I16: =SUM(I12:I15) -> 0.029143519 | J16: 93.75/300 points
A17: Thomas Williamson | B17: 0.0071759259 | C17: 30 | D17: =C17+'8k6k grass'!D16 -> 123.75 | H17: Hann, Breydan | I17: 0.0070023148
A18: Skylar Dawson | B18: 0.0071296296 | C18: 33.75 | D18: =C18+'8k6k grass'!D19 -> 101.25 | F18: Vestal, Kylie | G18: 0.0081134259 | H18: Guzman, Aaron | I18: 0.0069444444
A19: Alan Dravenstott | B19: 0.0073032407 | C19: 18.75 | D19: =C19+'8k6k grass'!D20 -> 81.25 | F19: Vapenik, Megan | G19: 0.0081365741 | H19: Williamson, Thomas | I19: 0.0071759259
A20: Canyon Neundorfer | B20: 0.0072337963 | C20: 26.25 | D20: =C20+'8k6k grass'!D21 -> 80 | F20: Kowalczyk, Gabrielle | G20: 0.0091550926 | H20: Lamison, Connor | I20: 0.0083449074
A21: Alex Tramontano | B21: DNS | C21: 0 | D21: =C21+'8k6k grass'!D17 -> 80 | F21: Thompson, Rachel | G21: 0.0089814815 | I21: =SUM(I17:I20) -> 0.029467593 | J21: 75/281.25 points
A22: Dylan Kelly | B22: 0.0073611111 | C22: 11.25 | D22: =C22+'8k6k grass'!D23 -> 27.75 | F22: Mertz, Olesya | G22: 0.0097685185 | H22: Roth, Kyle | I22: 0.0069328704
A23: Pierce Overmyer | B23: 0.0074768519 | C23: 6.75 | D23: =C23+'8k6k grass'!D22 -> 23.5 | G23: =SUM(G18:G22) -> 0.044155093 | H23: Tramontano, Alessandro | I23: 0.0083449074
A24: Nick DeVore | B24: 0.0074537037 | C24: 7.5 | D24: =C24+'8k6k grass'!D25 -> 22 | G24: 112.5/368.75 points | H24: Wallace, Ian | I24: 0.007037037
A25: Trey Myers | B25: 0.0073148148 | C25: 15 | D25: =C25+'8k6k grass'!D28 -> 21 | H25: Overmyer, Pierce | I25: 0.0074768519
A26: Nathan Thobe | B26: 0.0078009259 | C26: 6 | D26: =C26+'8k6k grass'!D27 -> 16 | F26: Retcher, Chyanne | G26: 0.0097685185 | I26: =SUM(I22:I25) -> 0.029791667 | J26: 37.5/230 points
A27: Caden Sauerbrey | B27: DNS | C27: 0 | D27: =C27+'8k6k grass'!D24 -> 15 | F27: Carpenter, Kassidy | G27: 0.0097685185 | H27: Sutter, Travis | I27: 0.0066087963
A28: Connor Lamison | B28: DNS | C28: 0 | D28: =C28+'8k6k grass'!D26 -> 10.75 | F28: Whitmore, Elizabeth | G28: 0.0079861111 | H28: Schaser, Braden | I28: 0.0083449074
A29: Jackson Brandstaetter | B29: 0.0083333333 | C29: 5.25 | D29: =C29+'8k6k grass'!D29 -> 5.25 | F29: Bresnahan, Karsen | G29: 0.008900463 | H29: DeVore, Nicholas | I29: 0.0074537037
F30: Mobley, Erica | G30: 0.0094791667 | H30: Kelly, Dylan | I30: 0.0073611111
G31: =SUM(G26:G30) -> 0.045902778 | I31: =SUM(I27:I30) -> 0.029768519 | J31: 56.25/228.75 points
B32: Time | C32: 2M Points | D32: Total Points | G32: 75/350 points | H32: Driemeyer, Billy | I32: 0.006724537
A33: Taylor Ellerbrock | B33: 0.0078703704 | C33: 262.5 | D33: =C33+'8k6k grass'!D34 -> 912.5 | H33: Thobe, Nathan | I33: 0.0078009259
A34: Megan Wright | B34: 0.0079513889 | C34: 225 | D34: =C34+'8k6k grass'!D33 -> 912.5 | H34: Sauerbrey, Caden | I34: 0.0083449074
A35: Megan Vapenik | B35: 0.0081365741 | C35: 112.5 | D35: =C35+'8k6k grass'!D35 -> 662.5 | H35: Dawson, Skylar | I35: 0.0071296296
A36: Kamryn Rhodes | B36: 0.0080902778 | C36: 150 | D36: =C36+'8k6k grass'!D37 -> 500 | I36: =SUM(I32:I35) -> 0.03 | J36: 22.5/157.5 points
A37: Rue Whitmore | B37: 0.0079861111 | C37: 187.5 | D37: =C37+'8k6k grass'!D39 -> 475
A38: Sophia Thompson | B38: 0.0081481481 | C38: 93.75 | D38: =C38+'8k6k grass'!D38 -> 387.5
A39: Tessa Pitcovich | B39: DNS | C39: 0 | D39: =C39+'8k6k grass'!D36 -> 387.5
A40: Kylie Vestal | B40: 0.0081134259 | C40: 131.25 | D40: =C40+'8k6k grass'!D41 -> 350
...

Sheet 8k6k Reverse
B1: Time | C1: 8k points | D1: Total Points | G1: Time/points | I1: Time | J1: Points
A2: Billy Driemeyer | B2: 0.018842593 | C2: 350 | D2: =C2+'2M TT track'!D3 -> 1250 | F2: Wright, Megan | G2: 0.016655093 | H2: Green, Jordan | I2: 0.022337963
A3: Patrick Baker | B3: 0.018865741 | C3: 300 | D3: =C3+'2M TT track'!D2 -> 1212.5 | F3: Thompson, Sophia | G3: 0.017430556 | H3: Blakeley, Brooks | I3: 0.020092593
A4: Travis Sutter | B4: 0.018981481 | C4: 200 | D4: =C4+'2M TT track'!D4 -> 1037.5 | F4: Herron, Jay Jay | G4: 0.017743056 | H4: Ackenhausen, Ian | I4: 0.019803241
A5: Sam Krabacher | B5: 0.018958333 | C5: 250 | D5: =C5+'2M TT track'!D5 -> 780 | F5: Rhodes, Kamryn | G5: 0.016759259 | H5: Neundorfer, Canyon | I5: 0.021122685
A6: Kyle Roth | B6: 0.019016204 | C6: 175 | D6: =C6+'2M TT track'!D6 -> 681.25 | F6: Trace, Lauren | G6: 0.019814815 | I6: =SUM(I2:I5) -> 0.083356481 | J6: 75/637.5points
A7: Dylan McKean | B7: 0.020196759 | C7: 45 | D7: =C7+'2M TT track'!D7 -> 526.25 | G7: =SUM(G2:G6) -> 0.088402778 | H7: Baker, Patrick | I7: 0.018865741
A8: Breydan Hann | B8: 0.019456019 | C8: 150 | D8: =C8+'2M TT track'!D9 -> 427.5 | G8: 200/800 points | H8: Dravenstott, Alan | I8: 0.020173611
A9: Aaron Guzman | B9: 0.0196875 | C9: 125 | D9: =C9+'2M TT track'!D11 -> 351.25 | H9: McKean, Dylan | I9: 0.020196759
A10: Braden Schaser | B10: DNS | C10: 0 | D10: =C10+'2M TT track'!D8 -> 317.5 | F10: Pitcovich, Tessa | G10: 0.019814815 | H10: Brandstaetter, Jackson | I10: 0.021296296
A11: Ian Ackenhausen | B11: 0.019803241 | C11: 90 | D11: =C11+'2M TT track'!D12 -> 290 | F11: Ellerbrock, Taylor | G11: 0.016122685 | I11: =SUM(I7:I10) -> 0.080532407 | J11: 200/500 points
A12: Jared Swartz | B12: 0.019780093 | C12: 100 | D12: =C12+'2M TT track'!D14 -> 281.25 | F12: Neff, Lexi | G12: 0.017511574 | H12: Krabacher, Samuel | I12: 0.018958333
A13: Jordan Green | B13: DNS | C13: 0 | D13: =C13+'2M TT track'!D10 -> 267.5 | F13: Dingman, Elizabeth | G13: 0.019780093 | H13: Pratt, Nick | I13: 0.02099537
A14: Brooks Blakley | B14: 0.020092593 | C14: 60 | D14: =C14+'2M TT track'!D13 -> 245 | F14: Goodrich, Sydney | G14: 0.019814815 | H14: Swartz, Jared | I14: 0.019780093
A15: Ian Wallace | B15: 0.020081019 | C15: 70 | D15: =C15+'2M TT track'!D15 -> 232.5 | G15: =SUM(G10:G14) -> 0.093043981 | H15: Myers, Trey | I15: 0.021898148
A16: Thomas Williamson | B16: 0.019872685 | C16: 80 | D16: =C16+'2M TT track'!D17 -> 203.75 | G16: 150/556.25 points | I16: =SUM(I12:I15) -> 0.081631944 | J16: 125/456.25 points
A17: Nick Pratt | B17: 0.02099537 | C17: 35 | D17: =C17+'2M TT track'!D16 -> 173.75 | H17: Hann, Breydan | I17: 0.019456019
A18: Skylar Dawson | B18: 0.020243056 | C18: 40 | D18: =C18+'2M TT track'!D18 -> 141.25 | F18: Vestal, Kylie | G18: 0.019814815 | H18: Guzman, Aaron | I18: 0.0196875
A19: Alan Dravenstott | B19: 0.020173611 | C19: 50 | D19: =C19+'2M TT track'!D19 -> 131.25 | F19: Vapenik, Megan | G19: 0.016898148 | H19: Williamson, Thomas | I19: 0.019872685
A20: Canyon Neundorfer | B20: 0.021122685 | C20: 25 | D20: =C20+'2M TT track'!D20 -> 105 | F20: Kowalczyk, Gabrielle | G20: 0.019814815 | H20: Lamison, Connor | I20: 0.022337963
A21: Alex Tramontano | B21: 0.021909722 | C21: 10 | D21: =C21+'2M TT track'!D21 -> 90 | F21: Thompson, Rachel | G21: 0.018460648 | I21: =SUM(I17:I20) -> 0.081354167 | J21: 150/431.25 points
A22: Dylan Kelly | B22: 0.021087963 | C22: 30 | D22: =C22+'2M TT track'!D22 -> 57.75 | F22: Mertz, Olesya | G22: 0.019814815 | H22: Roth, Kyle | I22: 0.019016204
A23: Trey Myers | B23: 0.021898148 | C23: 15 | D23: =C23+'2M TT track'!D25 -> 36 | G23: =SUM(G18:G22) -> 0.094803241 | H23: Tramontano, Alessandro | I23: 0.021909722
A24: Pierce Overmyer | B24: 0.022326389 | C24: 9 | D24: =C24+'2M TT track'!D23 -> 32.5 | G24: 125/493.75 points | H24: Wallace, Ian | I24: 0.020081019
A25: Jackson Brandstaetter | B25: 0.021296296 | C25: 20 | D25: =C25+'2M TT track'!D29 -> 25.25 | H25: Overmyer, Pierce | I25: 0.022326389
A26: Nick DeVore | B26: DNS | C26: 0 | D26: =C26+'2M TT track'!D24 -> 22 | F26: Retcher, Chyanne | G26: 0.019814815 | I26: =SUM(I22:I25) -> 0.083333333 | J26: 100/330 points
A27: Nathan Thobe | B27: DNS | C27: 0 | D27: =C27+'2M TT track'!D26 -> 16 | F27: Carpenter, Kassidy | G27: 0.019814815 | H27: Sutter, Travis | I27: 0.018981481
A28: Caden Sauerbrey | B28: DNS | C28: 0 | D28: =C28+'2M TT track'!D27 -> 15 | F28: Whitmore, Elizabeth | G28: 0.016724537 | H28: Schaser, Braden | I28: 0.022337963
A29: Connor Lamison | B29: DNF | C29: 0 | D29: =C29+'2M TT track'!D28 -> 10.75 | F29: Bresnahan, Karsen | G29: 0.018703704 | H29: DeVore, Nicholas | I29: 0.022337963
F30: Mobley, Erica | G30: 0.019803241 | H30: Kelly, Dylan | I30: 0.021087963
G31: =SUM(G26:G30) -> 0.094861111 | I31: =SUM(I27:I30) -> 0.08474537 | J31: 30/258.75 points
B32: Time | C32: 6k points | D32: Total Points | G32: 100/450 points | H32: Driemeyer, Billy | I32: 0.018842593
A33: Taylor Ellerbrock | B33: 0.016122685 | C33: 350 | D33: =C33+'2M TT track'!D33 -> 1262.5 | H33: Thobe, Nathan | I33: 0.022337963
A34: Megan Wright | B34: 0.016655093 | C34: 300 | D34: =C34+'2M TT track'!D34 -> 1212.5 | H34: Sauerbrey, Caden | I34: 0.022337963
A35: Megan Vapenik | B35: 0.016898148 | C35: 175 | D35: =C35+'2M TT track'!D35 -> 837.5 | H35: Dawson, Skylar | I35: 0.020243056
A36: Rue Whitmore | B36: 0.016724537 | C36: 250 | D36: =C36+'2M TT track'!D37 -> 725 | I36: =SUM(I32:I35) -> 0.083761574 | J36: 50/207.5 points
A37: Kamryn Rhodes | B37: 0.016759259 | C37: 200 | D37: =C37+'2M TT track'!D36 -> 700
A38: Sophia Thompson | B38: 0.017430556 | C38: 150 | D38: =C38+'2M TT track'!D38 -> 537.5
A39: Lexi Neff | B39: 0.017511574 | C39: 125 | D39: =C39+'2M TT track'!D41 -> 410
A40: Tessa Pitcovich | B40: DNS | C40: 0 | D40: =C40+'2M TT track'!D39 -> 387.5
...

Sheet 5k Track
B1: Time | C1: 5k points | D1: Total Points | G1: Time/points | I1: Time | J1: Points
A2: Billy Driemeyer | B2: 0.010520833 | C2: 437.5 | D2: =C2+'8k6k Reverse'!D2 -> 1687.5 | F2: Wright, Megan | G2: 0.012997685 | H2: Baker, Patrick | I2: 0.010578704
A3: Patrick Baker | B3: 0.010578704 | C3: 375 | D3: =C3+'8k6k Reverse'!D3 -> 1587.5 | F3: Thompson, Sophia | G3: 0.013599537 | H3: Dravenstott, Alan | I3: 0.011608796
A4: Travis Sutter | B4: 0.010925926 | C4: 312.5 | D4: =C4+'8k6k Reverse'!D4 -> 1350 | F4: Herron, Jay Jay | G4: 0.014166667 | H4: McKean, Dylan | I4: 0.011076389
A5: Sam Krabacher | B5: 0.010960648 | C5: 250 | D5: =C5+'8k6k Reverse'!D5 -> 1030 | F5: Rhodes, Kamryn | G5: 0.013321759 | H5: Brandstaetter, Jackson | I5: 0.012060185
A6: Kyle Roth | B6: 0.011122685 | C6: 187.5 | D6: =C6+'8k6k Reverse'!D6 -> 868.75 | F6: Trace, Lauren | G6: 0.015810185 | I6: =SUM(I2:I5) -> 0.045324074 | J6: 250/750 points
A7: Dylan McKean | B7: 0.011076389 | C7: 218.75 | D7: =C7+'8k6k Reverse'!D7 -> 745 | G7: =SUM(G2:G6) -> 0.069895833 | H7: Green, Jordan | I7: 0.012511574
A8: Breydan Hann | B8: 0.011157407 | C8: 156.25 | D8: =C8+'8k6k Reverse'!D8 -> 583.75 | G8: 250/1050 points | H8: Blakeley, Brooks | I8: 0.011365741
A9: Aaron Guzman | B9: 0.011284722 | C9: 125 | D9: =C9+'8k6k Reverse'!D9 -> 476.25 | H9: Ackenhausen, Ian | I9: 0.011377315
A10: Ian Ackenhausen | B10: 0.011377315 | C10: 87.5 | D10: =C10+'8k6k Reverse'!D11 -> 377.5 | F10: Pitcovich, Tessa | G10: 0.015810185 | H10: Neundorfer, Canyon | I10: 0.011770833
A11: Braden Schaser | B11: 0.011840278 | C11: 43.75 | D11: =C11+'8k6k Reverse'!D10 -> 361.25 | F11: Ellerbrock, Taylor | G11: 0.012534722 | I11: =SUM(I7:I10) -> 0.047025463 | J11: 62.5/700 points
A12: Jared Swartz | B12: 0.011388889 | C12: 75 | D12: =C12+'8k6k Reverse'!D12 -> 356.25 | F12: Neff, Lexi | G12: 0.013657407 | H12: Hann, Breydan | I12: 0.011157407
A13: Brooks Blakley | B13: 0.011365741 | C13: 100 | D13: =C13+'8k6k Reverse'!D14 -> 345 | F13: Dingman, Elizabeth | G13: 0.015798611 | H13: Guzman, Aaron | I13: 0.011284722
A14: Thomas Williamson | B14: 0.011342593 | C14: 112.5 | D14: =C14+'8k6k Reverse'!D16 -> 316.25 | F14: Goodrich, Sydney | G14: 0.015810185 | H14: Williamson, Thomas | I14: 0.011342593
A15: Jordan Green | B15: DNS | C15: 0 | D15: =C15+'8k6k Reverse'!D13 -> 267.5 | G15: =SUM(G10:G14) -> 0.073611111 | H15: Lamison, Connor | I15: 0.012314815
A16: Ian Wallace | B16: DNS | C16: 0 | D16: =C16+'8k6k Reverse'!D15 -> 232.5 | G16: 187.5/743.75 points | I16: =SUM(I12:I15) -> 0.046099537 | J16: 187.5/618.75 points
A17: Nick Pratt | B17: 0.011863426 | C17: 37.5 | D17: =C17+'8k6k Reverse'!D17 -> 211.25 | H17: Krabacher, Samuel | I17: 0.010960648
A18: Skylar Dawson | B18: 0.011446759 | C18: 62.5 | D18: =C18+'8k6k Reverse'!D18 -> 203.75 | F18: Vestal, Kylie | G18: 0.015810185 | H18: Pratt, Nick | I18: 0.011863426
A19: Alan Dravenstott | B19: 0.011608796 | C19: 56.25 | D19: =C19+'8k6k Reverse'!D19 -> 187.5 | F19: Vapenik, Megan | G19: 0.013541667 | H19: Swartz, Jared | I19: 0.011388889
A20: Canyon Neundorfer | B20: 0.011770833 | C20: 50 | D20: =C20+'8k6k Reverse'!D20 -> 155 | F20: Kowalczyk, Gabrielle | G20: 0.015810185 | H20: Myers, Trey | I20: 0.0125
A21: Alex Tramontano | B21: DNS | C21: 0 | D21: =C21+'8k6k Reverse'!D21 -> 90 | F21: Thompson, Rachel | G21: 0.014178241 | I21: =SUM(I17:I20) -> 0.046712963 | J21: 125/581.25 points
A22: Dylan Kelly | B22: 0.011886574 | C22: 31.25 | D22: =C22+'8k6k Reverse'!D22 -> 89 | F22: Mertz, Olesya | G22: 0.015810185 | H22: Sutter, Travis | I22: 0.010925926
A23: Pierce Overmyer | B23: 0.012002315 | C23: 25 | D23: =C23+'8k6k Reverse'!D24 -> 57.5 | G23: =SUM(G18:G22) -> 0.075150463 | H23: Schaser, Braden | I23: 0.011840278
A24: Trey Myers | B24: 0.0125 | C24: 10 | D24: =C24+'8k6k Reverse'!D23 -> 46 | G24: 156.25/650 points | H24: DeVore, Nicholas | I24: 0.012013889
A25: Nick DeVore | B25: 0.012013889 | C25: 18.75 | D25: =C25+'8k6k Reverse'!D26 -> 40.75 | H25: Kelly, Dylan | I25: 0.011886574
A26: Jackson Brandstaetter | B26: 0.012060185 | C26: 12.5 | D26: =C26+'8k6k Reverse'!D25 -> 37.75 | F26: Retcher, Chyanne | G26: 0.015810185 | I26: =SUM(I22:I25) -> 0.046666667 | J26: 156.25/415 points
A27: Connor Lamison | B27: 0.012314815 | C27: 11.25 | D27: =C27+'8k6k Reverse'!D29 -> 22 | F27: Carpenter, Kassidy | G27: 0.015810185 | H27: Roth, Kyle | I27: 0.011122685
A28: Nathan Thobe | B28: DNS | C28: 0 | D28: =C28+'8k6k Reverse'!D27 -> 16 | F28: Whitmore, Elizabeth | G28: 0.015810185 | H28: Tramontano, Alessandro | I28: 0.012511574
A29: Caden Sauerbrey | B29: DNS | C29: =C2:C290 -> 0 | D29: =C29+'8k6k Reverse'!D28 -> 15 | F29: Bresnahan, Karsen | G29: 0.015810185 | H29: Wallace, Ian | I29: 0.012511574
F30: Mobley, Erica | G30: 0.015127315 | H30: Overmyer, Pierce | I30: 0.012002315
G31: =SUM(G26:G30) -> 0.078368056 | I31: =SUM(I27:I30) -> 0.048148148 | J31: 37.5/367.5 points
B32: Time | C32: 5k points | D32: Total Points | G32: 125/575 points | H32: Driemeyer, Billy | I32: 0.010520833
A33: Taylor Ellerbrock | B33: 0.012534722 | C33: 437.5 | D33: =C33+'8k6k Reverse'!D33 -> 1700 | H33: Thobe, Nathan | I33: 0.012511574
A34: Megan Wright | B34: 0.012997685 | C34: 375 | D34: =C34+'8k6k Reverse'!D34 -> 1587.5 | H34: Sauerbrey, Caden | I34: 0.012511574
A35: Megan Vapenik | B35: 0.013541667 | C35: 250 | D35: =C35+'8k6k Reverse'!D35 -> 1087.5 | H35: Dawson, Skylar | I35: 0.011446759
A36: Kamryn Rhodes | B36: 0.013321759 | C36: 312.5 | D36: =C36+'8k6k Reverse'!D37 -> 1012.5 | I36: =SUM(I32:I35) -> 0.046990741 | J36: 93.75/301.25 points
A37: Sophia Thompson | B37: 0.013599537 | C37: 218.75 | D37: =C37+'8k6k Reverse'!D38 -> 756.25
A38: Rue Whitmore | B38: DNS | C38: 0 | D38: =C38+'8k6k Reverse'!D36 -> 725
A39: Lexi Neff | B39: 0.013645833 | C39: 187.5 | D39: =C39+'8k6k Reverse'!D39 -> 597.5
A40: JJ Herron | B40: 0.014166667 | C40: 156.25 | D40: =C40+'8k6k Reverse'!D41 -> 523.75
...
